{
 "currentVersion": 11.5,
 "serviceDescription": "James Warren map of Bruce County in 1896",
 "serviceItemId": "c6ac6a28f5124710b03085d5ec529f56",
 "name": "public/Bruce1896map",
 "description": "James Warren map of Bruce County in 1896",
 "extent": {
  "xmin": 417400.5788116144,
  "ymin": 4846313.267090583,
  "xmax": 523688.6009416144,
  "ymax": 5029276.728070583,
  "spatialReference": {
   "wkid": 26917,
   "latestWkid": 26917
  }
 },
 "initialExtent": {
  "xmin": 417400.5788116144,
  "ymin": 4846313.267090583,
  "xmax": 523688.6009416144,
  "ymax": 5029276.728070583,
  "spatialReference": {
   "wkid": 26917,
   "latestWkid": 26917
  }
 },
 "fullExtent": {
  "xmin": 417400.5788116144,
  "ymin": 4846313.267090583,
  "xmax": 523688.6009416144,
  "ymax": 5029276.728070583,
  "spatialReference": {
   "wkid": 26917,
   "latestWkid": 26917
  }
 },
 "sortableFields": "",
 "bandCount": 4,
 "pixelType": "U16",
 "minValues": [
  0,
  0,
  0,
  255
 ],
 "maxValues": [
  255,
  255,
  255,
  255
 ],
 "meanValues": [
  207.90470326133,
  213.37964104927,
  192.38686607067,
  255
 ],
 "stdvValues": [
  52.211959516682,
  57.197263272482,
  70.008198201395,
  0
 ],
 "serviceProperties": "Center<\/MosaicMethod>First<\/MosaicOperator>true<\/SortAscending><\/LockImageID><\/TileOrderField>0<\/TileOrderBase>0.000000<\/AvgImageSpacingX>0.000000<\/AvgImageSpacingY>0.0<\/ViewPointX>0.0<\/ViewPointY>0.0<\/ViewPointDefShiftX>0.0<\/ViewPointDefShiftY>None<\/CompressionMethod>75<\/CompressionQuality>0.010000<\/CompressionTolerance>Bilinear<\/SamplingMethod><\/ImageServiceProperties><\/ImageServer>",
 "allowedFields": "",
 "hasMultidimensions": false,
 "pixelSizeX": 52.879613,
 "pixelSizeY": 52.87961299999999,
 "meanPixelSize": 52.87961299999999,
 "datasetFormat": "TIFF",
 "uncompressedSize": 55636800,
 "blockWidth": 128,
 "blockHeight": 128,
 "compressionType": "LZW",
 "bandNames": [
  "Band_1",
  "Band_2",
  "Band_3",
  "Band_4"
 ],
 "allowCopy": true,
 "allowAnalysis": true,
 "itemAccess": false,
 "inspectionCapabilities": "",
 "noDataValue": 256,
 "noDataValues": [
  256,
  256,
  256,
  256
 ],
 "minPixelSize": 0.5971642835598172,
 "maxPixelSize": 305.74811314055756,
 "copyrightText": "",
 "serviceDataType": "esriImageServiceDataTypeGeneric",
 "serviceSourceType": "esriImageServiceSourceTypeDataset",
 "objectIdField": "",
 "fields": [],
 "capabilities": "Image,Metadata,Mensuration",
 "defaultMosaicMethod": "Center",
 "allowedMosaicMethods": "",
 "sortField": "",
 "sortValue": null,
 "sortAscending": true,
 "mosaicOperator": "First",
 "defaultCompressionQuality": 75,
 "defaultResamplingMethod": "Bilinear",
 "maxImageHeight": 4100,
 "maxImageWidth": 15000,
 "singleFusedMapCache": true,
 "tileInfo": {
  "rows": 256,
  "cols": 256,
  "dpi": 96,
  "format": "MIXED",
  "compressionQuality": 75,
  "origin": {
   "x": -5120900,
   "y": 9998100
  },
  "spatialReference": {
   "wkid": 26917,
   "latestWkid": 26917
  },
  "lods": [
   {
    "level": 0,
    "resolution": 396.87579375158754,
    "scale": 1500000
   },
   {
    "level": 1,
    "resolution": 264.5838625010584,
    "scale": 1000000.0000000001
   },
   {
    "level": 2,
    "resolution": 132.2919312505292,
    "scale": 500000.00000000006
   },
   {
    "level": 3,
    "resolution": 66.1459656252646,
    "scale": 250000.00000000003
   },
   {
    "level": 4,
    "resolution": 33.0729828126323,
    "scale": 125000.00000000001
   },
   {
    "level": 5,
    "resolution": 26.458386250105836,
    "scale": 100000
   },
   {
    "level": 6,
    "resolution": 16.933367200067735,
    "scale": 64000
   },
   {
    "level": 7,
    "resolution": 13.229193125052918,
    "scale": 50000
   },
   {
    "level": 8,
    "resolution": 8.466683600033868,
    "scale": 32000
   },
   {
    "level": 9,
    "resolution": 6.614596562526459,
    "scale": 25000
   },
   {
    "level": 10,
    "resolution": 4.233341800016934,
    "scale": 16000
   },
   {
    "level": 11,
    "resolution": 2.6458386250105836,
    "scale": 10000
   },
   {
    "level": 12,
    "resolution": 2.116670900008467,
    "scale": 8000
   },
   {
    "level": 13,
    "resolution": 1.3229193125052918,
    "scale": 5000
   },
   {
    "level": 14,
    "resolution": 1.0583354500042335,
    "scale": 4000
   },
   {
    "level": 15,
    "resolution": 0.6614596562526459,
    "scale": 2500
   },
   {
    "level": 16,
    "resolution": 0.5291677250021167,
    "scale": 2000
   },
   {
    "level": 17,
    "resolution": 0.26458386250105836,
    "scale": 1000
   },
   {
    "level": 18,
    "resolution": 0.13229193125052918,
    "scale": 500
   },
   {
    "level": 19,
    "resolution": 0.06614596562526459,
    "scale": 250
   },
   {
    "level": 20,
    "resolution": 0.026458386250105836,
    "scale": 100
   },
   {
    "level": 21,
    "resolution": 0.013229193125052918,
    "scale": 50
   }
  ]
 },
 "storageInfo": {
  "storageFormat": "esriMapCacheStorageModeCompactV2",
  "packetSize": 128
 },
 "cacheType": "Map",
 "allowRasterFunction": true,
 "rasterFunctionInfos": [
  {
   "name": "None",
   "description": "",
   "help": ""
  }
 ],
 "rasterTypeInfos": [
  {
   "name": "Raster Dataset",
   "description": "Supports all ArcGIS Raster Datasets",
   "help": ""
  }
 ],
 "mensurationCapabilities": "Basic",
 "hasHistograms": true,
 "hasColormap": false,
 "hasRasterAttributeTable": false,
 "minScale": 1155581.108577,
 "maxScale": 2256.994353,
 "minLOD": 9,
 "maxLOD": 18,
 "exportTilesAllowed": false,
 "supportsStatistics": false,
 "supportsAdvancedQueries": false,
 "editFieldsInfo": null,
 "ownershipBasedAccessControlForRasters": null,
 "allowComputeTiePoints": false,
 "useStandardizedQueries": true,
 "advancedQueryCapabilities": {
  "useStandardizedQueries": true,
  "supportsStatistics": false,
  "supportsOrderBy": false,
  "supportsDistinct": false,
  "supportsPagination": false
 },
 "spatialReference": {
  "wkid": 26917,
  "latestWkid": 26917
 }
}
