View In:
ArcGIS JavaScript
ArcGIS Online Map Viewer
ArcGIS Earth
ArcGIS Pro
Service Description:
Map Name: Orthophoto
Legend
All Layers and Tables
Dynamic Legend
Dynamic All Layers
Layers:
Description:
Service Item Id: c25fa0e7cb0146a6a517d754bc4027f8
Copyright Text: INCLUDES MATERIAL © 2025 OF THE KING'S PRINTER FOR ONTARIO. ALL RIGHTS RESERVED
Spatial Reference:
26917
(26917)
LatestVCSWkid(0)
Single Fused Map Cache: true
Tile Info:
- Height: 256.0
- Width: 256.0
- DPI: 96.0
-
Levels of Detail: 20
-
Level ID: 0
[ Start Tile, End Tile ]
- Resolution: 264.5838625010584
- Scale: 1000000.0000000001
-
Level ID: 1
[ Start Tile, End Tile ]
- Resolution: 132.2919312505292
- Scale: 500000.00000000006
-
Level ID: 2
[ Start Tile, End Tile ]
- Resolution: 66.1459656252646
- Scale: 250000.00000000003
-
Level ID: 3
[ Start Tile, End Tile ]
- Resolution: 33.0729828126323
- Scale: 125000.00000000001
- Format: MIXED
- Compression Quality: 75.0
- Origin: X: -5120900.0
Y: 9998100.0
- Spatial Reference: 26917
(26917)
LatestVCSWkid(0)
Storage Info:
- Storage Format: esriMapCacheStorageModeCompactV2
- Packet Size: 128
Initial Extent:
XMin: 440268.8646658592
YMin: 4895290.386249258
XMax: 496560.94533749955
YMax: 4941277.782240988
Spatial Reference: 26917
(26917)
LatestVCSWkid(0)
Full Extent:
XMin: 437999.6835000003
YMin: 4860000.949100001
XMax: 503999.69560000027
YMax: 5022000.976600001
Spatial Reference: 26917
(26917)
LatestVCSWkid(0)
Units: esriMeters
Supported Image Format Types: PNG32,PNG24,PNG,JPG,DIB,TIFF,EMF,PS,PDF,GIF,SVG,SVGZ,BMP
Document Info:
Title: Map
Author:
Comments:
Subject:
Category:
Keywords: 2020
AntialiasingMode: Fast
TextAntialiasingMode: Force
Supports Dynamic Layers: true
Resampling: false
MaxRecordCount: 2000
MaxSelectionCount: 2000
MaxImageHeight: 4096
MaxImageWidth: 4096
Supported Query Formats: JSON, geoJSON, PBF
Supports Query Data Elements: true
Min Scale: 1000000.0000000001
Max Scale: 100
Supports Datum Transformation: true
Child Resources:
Info
Dynamic Layer
Supported Operations:
Export Map
Identify
QueryLegends
QueryDomains
Find
Return Updates